BEGIN:VCALENDAR
PRODID:-//Microsoft Corporation//Outlook 16.0 MIMEDIR//EN
VERSION:2.0
METHOD:PUBLISH
X-CALSTART:20250909T174500Z
X-CALEND:20260221T193000Z
X-WR-RELCALID:{00000018-BC06-25A8-BA81-2CA7A2D67399}
X-WR-CALNAME:EHC Winterthur
BEGIN:VTIMEZONE
TZID:W. Europe Standard Time
BEGIN:STANDARD
DTSTART:16011028T030000
RRULE:FREQ=YEARLY;BYDAY=-1SU;BYMONTH=10
TZOFFSETFROM:+0200
TZOFFSETTO:+0100
END:STANDARD
BEGIN:DAYLIGHT
DTSTART:16010325T020000
RRULE:FREQ=YEARLY;BYDAY=-1SU;BYMONTH=3
TZOFFSETFROM:+0100
TZOFFSETTO:+0200
END:DAYLIGHT
END:VTIMEZONE
BEGIN:VEVENT
CLASS:PUBLIC
CREATED:20250707T090915Z
DESCRIPTION:SL CH Regular Season (2026)
DTEND;TZID="W. Europe Standard Time":20250909T221500
DTSTAMP:20250707T110914Z
DTSTART;TZID="W. Europe Standard Time":20250909T194500
LAST-MODIFIED:20250707T090915Z
LOCATION:P. des Mélèzes\, 2300 La Chaux-de-Fonds NE
SEQUENCE:0
SUMMARY:HC La Chaux-de-Fonds - EHC Winterthur (SL)
TRANSP:OPAQUE
UID:957bc3c7-b442-4af0-9a01-ca52ff26f05f
X-MICROSOFT-CDO-BUSYSTATUS:BUSY
END:VEVENT
BEGIN:VEVENT
CLASS:PUBLIC
CREATED:20250707T090915Z
DESCRIPTION:SL CH Regular Season (2026)
DTEND;TZID="W. Europe Standard Time":20250912T223000
DTSTAMP:20250707T110914Z
DTSTART;TZID="W. Europe Standard Time":20250912T200000
LAST-MODIFIED:20250707T090915Z
LOCATION:Eishalle Deutweg\, 8400 Winterthur ZH
SEQUENCE:0
SUMMARY:EHC Winterthur - EHC Arosa (SL)
TRANSP:OPAQUE
UID:5bb4daab-be2f-4a90-ba93-7c93e7486330
X-MICROSOFT-CDO-BUSYSTATUS:BUSY
END:VEVENT
BEGIN:VEVENT
CLASS:PUBLIC
CREATED:20250707T090915Z
DESCRIPTION:SL CH Regular Season (2026)
DTEND;TZID="W. Europe Standard Time":20250913T210000
DTSTAMP:20250707T110914Z
DTSTART;TZID="W. Europe Standard Time":20250913T183000
LAST-MODIFIED:20250707T090915Z
LOCATION:Thomas Domenig Stadion\, 7000 Chur GR
SEQUENCE:0
SUMMARY:EHC Chur - EHC Winterthur (SL)
TRANSP:OPAQUE
UID:f5a4c1e9-5220-41f9-ac7c-25440160e8df
X-MICROSOFT-CDO-BUSYSTATUS:BUSY
END:VEVENT
BEGIN:VEVENT
CLASS:PUBLIC
CREATED:20250707T090915Z
DESCRIPTION:SL CH Regular Season (2026)
DTEND;TZID="W. Europe Standard Time":20250916T223000
DTSTAMP:20250707T110914Z
DTSTART;TZID="W. Europe Standard Time":20250916T200000
LAST-MODIFIED:20250707T090915Z
LOCATION:Eishalle Deutweg\, 8400 Winterthur ZH
SEQUENCE:0
SUMMARY:EHC Winterthur - EHC Basel (SL)
TRANSP:OPAQUE
UID:64bc3a93-9742-43c9-9e18-b25516019385
X-MICROSOFT-CDO-BUSYSTATUS:BUSY
END:VEVENT
BEGIN:VEVENT
CLASS:PUBLIC
CREATED:20250707T090915Z
DESCRIPTION:SL CH Regular Season (2026)
DTEND;TZID="W. Europe Standard Time":20250920T224500
DTSTAMP:20250707T110914Z
DTSTART;TZID="W. Europe Standard Time":20250920T201500
LAST-MODIFIED:20250707T090915Z
LOCATION:Eishalle Deutweg\, 8400 Winterthur ZH
SEQUENCE:0
SUMMARY:EHC Winterthur - GDT Bellinzona Snakes (SL)
TRANSP:OPAQUE
UID:873e70a0-6626-4665-828d-757ead872464
X-MICROSOFT-CDO-BUSYSTATUS:BUSY
END:VEVENT
BEGIN:VEVENT
CLASS:PUBLIC
CREATED:20250707T090915Z
DESCRIPTION:SL CH Regular Season (2026)
DTEND;TZID="W. Europe Standard Time":20250923T221500
DTSTAMP:20250707T110914Z
DTSTART;TZID="W. Europe Standard Time":20250923T194500
LAST-MODIFIED:20250707T090915Z
LOCATION:KEB Kleinholz\, 4603 Olten SO
SEQUENCE:0
SUMMARY:EHC Olten - EHC Winterthur (SL)
TRANSP:OPAQUE
UID:e51a4a80-11a3-464f-b82e-0bfdbd3e2d22
X-MICROSOFT-CDO-BUSYSTATUS:BUSY
END:VEVENT
BEGIN:VEVENT
CLASS:PUBLIC
CREATED:20250707T090915Z
DESCRIPTION:SL CH Regular Season (2026)
DTEND;TZID="W. Europe Standard Time":20250930T223000
DTSTAMP:20250707T110914Z
DTSTART;TZID="W. Europe Standard Time":20250930T200000
LAST-MODIFIED:20250707T090915Z
LOCATION:Patinoire Graben\, 3960 Sierre VS
SEQUENCE:0
SUMMARY:HC Sierre - EHC Winterthur (SL)
TRANSP:OPAQUE
UID:7865816e-d2a8-4bf2-843a-4a764a46555d
X-MICROSOFT-CDO-BUSYSTATUS:BUSY
END:VEVENT
BEGIN:VEVENT
CLASS:PUBLIC
CREATED:20250707T090915Z
DESCRIPTION:SL CH Regular Season (2026)
DTEND;TZID="W. Europe Standard Time":20251004T200000
DTSTAMP:20250707T110914Z
DTSTART;TZID="W. Europe Standard Time":20251004T173000
LAST-MODIFIED:20250707T090915Z
LOCATION:Eishalle Deutweg\, 8400 Winterthur ZH
SEQUENCE:0
SUMMARY:EHC Winterthur - GCK Lions (SL)
TRANSP:OPAQUE
UID:723334b3-74f3-4526-9f08-e353d3ae51f2
X-MICROSOFT-CDO-BUSYSTATUS:BUSY
END:VEVENT
BEGIN:VEVENT
CLASS:PUBLIC
CREATED:20250707T090915Z
DESCRIPTION:SL CH Regular Season (2026)
DTEND;TZID="W. Europe Standard Time":20251007T221500
DTSTAMP:20250707T110914Z
DTSTART;TZID="W. Europe Standard Time":20251007T194500
LAST-MODIFIED:20250707T090915Z
LOCATION:EH Güttingersreuti\, 8570 Weinfelden TG
SEQUENCE:0
SUMMARY:HC Thurgau - EHC Winterthur (SL)
TRANSP:OPAQUE
UID:1fc40337-3e03-4f65-a416-17b9583985a8
X-MICROSOFT-CDO-BUSYSTATUS:BUSY
END:VEVENT
BEGIN:VEVENT
CLASS:PUBLIC
CREATED:20250707T090915Z
DESCRIPTION:SL CH Regular Season (2026)
DTEND;TZID="W. Europe Standard Time":20251010T223000
DTSTAMP:20250707T110914Z
DTSTART;TZID="W. Europe Standard Time":20251010T200000
LAST-MODIFIED:20250707T090915Z
LOCATION:Eishalle Deutweg\, 8400 Winterthur ZH
SEQUENCE:0
SUMMARY:EHC Winterthur - EHC Visp (SL)
TRANSP:OPAQUE
UID:f44e4d79-4202-4692-91d7-b117a5d8a51f
X-MICROSOFT-CDO-BUSYSTATUS:BUSY
END:VEVENT
BEGIN:VEVENT
CLASS:PUBLIC
CREATED:20250707T090915Z
DESCRIPTION:SL CH Regular Season (2026)
DTEND;TZID="W. Europe Standard Time":20251012T193000
DTSTAMP:20250707T110914Z
DTSTART;TZID="W. Europe Standard Time":20251012T170000
LAST-MODIFIED:20250707T090915Z
LOCATION:St. Jakob Arena\, 4052 Basel BS
SEQUENCE:0
SUMMARY:EHC Basel - EHC Winterthur (SL)
TRANSP:OPAQUE
UID:83e9b1d3-b277-4096-b3ba-a3cdb93c55d6
X-MICROSOFT-CDO-BUSYSTATUS:BUSY
END:VEVENT
BEGIN:VEVENT
CLASS:PUBLIC
CREATED:20250707T090915Z
DESCRIPTION:SL CH Regular Season (2026)
DTEND;TZID="W. Europe Standard Time":20251017T223000
DTSTAMP:20250707T110914Z
DTSTART;TZID="W. Europe Standard Time":20251017T200000
LAST-MODIFIED:20250707T090915Z
LOCATION:Eishalle Deutweg\, 8400 Winterthur ZH
SEQUENCE:0
SUMMARY:EHC Winterthur - EHC Olten (SL)
TRANSP:OPAQUE
UID:34eb9c05-984f-479e-aa49-8016ab1b62e8
X-MICROSOFT-CDO-BUSYSTATUS:BUSY
END:VEVENT
BEGIN:VEVENT
CLASS:PUBLIC
CREATED:20250707T090915Z
DESCRIPTION:SL CH Regular Season (2026)
DTEND;TZID="W. Europe Standard Time":20251019T193000
DTSTAMP:20250707T110914Z
DTSTART;TZID="W. Europe Standard Time":20251019T170000
LAST-MODIFIED:20250707T090915Z
LOCATION:SKZA Obersee\, 7050 Arosa GR
SEQUENCE:0
SUMMARY:EHC Arosa - EHC Winterthur (SL)
TRANSP:OPAQUE
UID:c29a8201-143f-4947-a880-e47a1bd3c863
X-MICROSOFT-CDO-BUSYSTATUS:BUSY
END:VEVENT
BEGIN:VEVENT
CLASS:PUBLIC
CREATED:20250707T090915Z
DESCRIPTION:SL CH Regular Season (2026)
DTEND;TZID="W. Europe Standard Time":20251021T223000
DTSTAMP:20250707T110914Z
DTSTART;TZID="W. Europe Standard Time":20251021T200000
LAST-MODIFIED:20250707T090915Z
LOCATION:Eishalle Deutweg\, 8400 Winterthur ZH
SEQUENCE:0
SUMMARY:EHC Winterthur - EHC Chur (SL)
TRANSP:OPAQUE
UID:16f13daf-532e-4373-be33-5eb2744961a8
X-MICROSOFT-CDO-BUSYSTATUS:BUSY
END:VEVENT
BEGIN:VEVENT
CLASS:PUBLIC
CREATED:20250707T090915Z
DESCRIPTION:SL CH Regular Season (2026)
DTEND;TZID="W. Europe Standard Time":20251026T183000
DTSTAMP:20250707T110914Z
DTSTART;TZID="W. Europe Standard Time":20251026T160000
LAST-MODIFIED:20250707T090915Z
LOCATION:Eishalle Deutweg\, 8400 Winterthur ZH
SEQUENCE:0
SUMMARY:EHC Winterthur - HC La Chaux-de-Fonds (SL)
TRANSP:OPAQUE
UID:4864414e-dcd5-42f1-8fb4-91c8a83ef997
X-MICROSOFT-CDO-BUSYSTATUS:BUSY
END:VEVENT
BEGIN:VEVENT
CLASS:PUBLIC
CREATED:20250707T090915Z
DESCRIPTION:SL CH Regular Season (2026)
DTEND;TZID="W. Europe Standard Time":20251029T224500
DTSTAMP:20250707T110914Z
DTSTART;TZID="W. Europe Standard Time":20251029T201500
LAST-MODIFIED:20250707T090915Z
LOCATION:CS Bellinzona\, 6500 Bellinzona TI
SEQUENCE:0
SUMMARY:GDT Bellinzona Snakes - EHC Winterthur (SL)
TRANSP:OPAQUE
UID:1c49e22d-8573-4aff-b17a-d972184386cc
X-MICROSOFT-CDO-BUSYSTATUS:BUSY
END:VEVENT
BEGIN:VEVENT
CLASS:PUBLIC
CREATED:20250707T090915Z
DESCRIPTION:SL CH Regular Season (2026)
DTEND;TZID="W. Europe Standard Time":20251031T223000
DTSTAMP:20250707T110914Z
DTSTART;TZID="W. Europe Standard Time":20251031T200000
LAST-MODIFIED:20250707T090915Z
LOCATION:Eishalle Deutweg\, 8400 Winterthur ZH
SEQUENCE:0
SUMMARY:EHC Winterthur - HC Sierre (SL)
TRANSP:OPAQUE
UID:ae23e231-0832-4229-b1f4-a7e42067b844
X-MICROSOFT-CDO-BUSYSTATUS:BUSY
END:VEVENT
BEGIN:VEVENT
CLASS:PUBLIC
CREATED:20250707T090915Z
DESCRIPTION:SL CH Regular Season (2026)
DTEND;TZID="W. Europe Standard Time":20251101T193000
DTSTAMP:20250707T110914Z
DTSTART;TZID="W. Europe Standard Time":20251101T170000
LAST-MODIFIED:20250707T090915Z
LOCATION:KEB KEK\, 8700 Küsnacht ZH
SEQUENCE:0
SUMMARY:GCK Lions - EHC Winterthur (SL)
TRANSP:OPAQUE
UID:00c6b56e-f57c-4c31-814c-3ba99a443a64
X-MICROSOFT-CDO-BUSYSTATUS:BUSY
END:VEVENT
BEGIN:VEVENT
CLASS:PUBLIC
CREATED:20250707T090915Z
DESCRIPTION:SL CH Regular Season (2026)
DTEND;TZID="W. Europe Standard Time":20251114T223000
DTSTAMP:20250707T110914Z
DTSTART;TZID="W. Europe Standard Time":20251114T200000
LAST-MODIFIED:20250707T090915Z
LOCATION:Eishalle Deutweg\, 8400 Winterthur ZH
SEQUENCE:0
SUMMARY:EHC Winterthur - HC Thurgau (SL)
TRANSP:OPAQUE
UID:77b2a2f8-799d-4316-a106-77b2886254c4
X-MICROSOFT-CDO-BUSYSTATUS:BUSY
END:VEVENT
BEGIN:VEVENT
CLASS:PUBLIC
CREATED:20250707T090915Z
DESCRIPTION:SL CH Regular Season (2026)
DTEND;TZID="W. Europe Standard Time":20251116T201500
DTSTAMP:20250707T110914Z
DTSTART;TZID="W. Europe Standard Time":20251116T174500
LAST-MODIFIED:20250707T090915Z
LOCATION:Lonza Arena Visp\, 3930 Visp VS
SEQUENCE:0
SUMMARY:EHC Visp - EHC Winterthur (SL)
TRANSP:OPAQUE
UID:d3bcacdc-b572-4cb7-8e3d-75423e6421a7
X-MICROSOFT-CDO-BUSYSTATUS:BUSY
END:VEVENT
BEGIN:VEVENT
CLASS:PUBLIC
CREATED:20250707T090915Z
DESCRIPTION:SL CH Regular Season (2026)
DTEND;TZID="W. Europe Standard Time":20251121T223000
DTSTAMP:20250707T110914Z
DTSTART;TZID="W. Europe Standard Time":20251121T200000
LAST-MODIFIED:20250707T090915Z
LOCATION:Eishalle Deutweg\, 8400 Winterthur ZH
SEQUENCE:0
SUMMARY:EHC Winterthur - EHC Olten (SL)
TRANSP:OPAQUE
UID:0f1283cb-bf9f-4a9f-9838-37ca3f900e5e
X-MICROSOFT-CDO-BUSYSTATUS:BUSY
END:VEVENT
BEGIN:VEVENT
CLASS:PUBLIC
CREATED:20250707T090915Z
DESCRIPTION:SL CH Regular Season (2026)
DTEND;TZID="W. Europe Standard Time":20251123T190000
DTSTAMP:20250707T110914Z
DTSTART;TZID="W. Europe Standard Time":20251123T163000
LAST-MODIFIED:20250707T090915Z
LOCATION:Thomas Domenig Stadion\, 7000 Chur GR
SEQUENCE:0
SUMMARY:EHC Chur - EHC Winterthur (SL)
TRANSP:OPAQUE
UID:b30b12c2-1e7f-4820-9b92-15840e32e5de
X-MICROSOFT-CDO-BUSYSTATUS:BUSY
END:VEVENT
BEGIN:VEVENT
CLASS:PUBLIC
CREATED:20250707T090915Z
DESCRIPTION:SL CH Regular Season (2026)
DTEND;TZID="W. Europe Standard Time":20251125T223000
DTSTAMP:20250707T110914Z
DTSTART;TZID="W. Europe Standard Time":20251125T200000
LAST-MODIFIED:20250707T090915Z
LOCATION:Eishalle Deutweg\, 8400 Winterthur ZH
SEQUENCE:0
SUMMARY:EHC Winterthur - HC La Chaux-de-Fonds (SL)
TRANSP:OPAQUE
UID:d7928883-0aa9-4ada-a319-77b59b6a8626
X-MICROSOFT-CDO-BUSYSTATUS:BUSY
END:VEVENT
BEGIN:VEVENT
CLASS:PUBLIC
CREATED:20250707T090915Z
DESCRIPTION:SL CH Regular Season (2026)
DTEND;TZID="W. Europe Standard Time":20251128T221500
DTSTAMP:20250707T110914Z
DTSTART;TZID="W. Europe Standard Time":20251128T194500
LAST-MODIFIED:20250707T090915Z
LOCATION:St. Jakob Arena\, 4052 Basel BS
SEQUENCE:0
SUMMARY:EHC Basel - EHC Winterthur (SL)
TRANSP:OPAQUE
UID:90eb92a8-89c6-49f3-b175-41fd3b176dbb
X-MICROSOFT-CDO-BUSYSTATUS:BUSY
END:VEVENT
BEGIN:VEVENT
CLASS:PUBLIC
CREATED:20250707T090915Z
DESCRIPTION:SL CH Regular Season (2026)
DTEND;TZID="W. Europe Standard Time":20251130T183000
DTSTAMP:20250707T110914Z
DTSTART;TZID="W. Europe Standard Time":20251130T160000
LAST-MODIFIED:20250707T090915Z
LOCATION:Eishalle Deutweg\, 8400 Winterthur ZH
SEQUENCE:0
SUMMARY:EHC Winterthur - GDT Bellinzona Snakes (SL)
TRANSP:OPAQUE
UID:6b97248f-1d10-4646-aa0e-e951b048f881
X-MICROSOFT-CDO-BUSYSTATUS:BUSY
END:VEVENT
BEGIN:VEVENT
CLASS:PUBLIC
CREATED:20250707T090915Z
DESCRIPTION:SL CH Regular Season (2026)
DTEND;TZID="W. Europe Standard Time":20251202T223000
DTSTAMP:20250707T110914Z
DTSTART;TZID="W. Europe Standard Time":20251202T200000
LAST-MODIFIED:20250707T090915Z
LOCATION:KEB KEK\, 8700 Küsnacht ZH
SEQUENCE:0
SUMMARY:GCK Lions - EHC Winterthur (SL)
TRANSP:OPAQUE
UID:9bf3a7c8-066a-42a4-a0e7-bbf01b4a474d
X-MICROSOFT-CDO-BUSYSTATUS:BUSY
END:VEVENT
BEGIN:VEVENT
CLASS:PUBLIC
CREATED:20250707T090915Z
DESCRIPTION:SL CH Regular Season (2026)
DTEND;TZID="W. Europe Standard Time":20251205T223000
DTSTAMP:20250707T110914Z
DTSTART;TZID="W. Europe Standard Time":20251205T200000
LAST-MODIFIED:20250707T090915Z
LOCATION:Eishalle Deutweg\, 8400 Winterthur ZH
SEQUENCE:0
SUMMARY:EHC Winterthur - HC Sierre (SL)
TRANSP:OPAQUE
UID:45ad5bb0-e3c2-4384-87a9-715130e8942a
X-MICROSOFT-CDO-BUSYSTATUS:BUSY
END:VEVENT
BEGIN:VEVENT
CLASS:PUBLIC
CREATED:20250707T090915Z
DESCRIPTION:SL CH Regular Season (2026)
DTEND;TZID="W. Europe Standard Time":20251206T220000
DTSTAMP:20250707T110914Z
DTSTART;TZID="W. Europe Standard Time":20251206T193000
LAST-MODIFIED:20250707T090915Z
LOCATION:SKZA Obersee\, 7050 Arosa GR
SEQUENCE:0
SUMMARY:EHC Arosa - EHC Winterthur (SL)
TRANSP:OPAQUE
UID:3c075c01-748d-4d0d-a8eb-0f6e79ab17c0
X-MICROSOFT-CDO-BUSYSTATUS:BUSY
END:VEVENT
BEGIN:VEVENT
CLASS:PUBLIC
CREATED:20250707T090915Z
DESCRIPTION:SL CH Regular Season (2026)
DTEND;TZID="W. Europe Standard Time":20251214T183000
DTSTAMP:20250707T110914Z
DTSTART;TZID="W. Europe Standard Time":20251214T160000
LAST-MODIFIED:20250707T090915Z
LOCATION:Eishalle Deutweg\, 8400 Winterthur ZH
SEQUENCE:0
SUMMARY:EHC Winterthur - HC Thurgau (SL)
TRANSP:OPAQUE
UID:ae7a9123-4412-4cd8-bd1a-228495731673
X-MICROSOFT-CDO-BUSYSTATUS:BUSY
END:VEVENT
BEGIN:VEVENT
CLASS:PUBLIC
CREATED:20250707T090915Z
DESCRIPTION:SL CH Regular Season (2026)
DTEND;TZID="W. Europe Standard Time":20251217T223000
DTSTAMP:20250707T110914Z
DTSTART;TZID="W. Europe Standard Time":20251217T200000
LAST-MODIFIED:20250707T090915Z
LOCATION:Eishalle Deutweg\, 8400 Winterthur ZH
SEQUENCE:0
SUMMARY:EHC Winterthur - EHC Visp (SL)
TRANSP:OPAQUE
UID:dc7af6db-a4dc-47ec-ab4d-21539b759d12
X-MICROSOFT-CDO-BUSYSTATUS:BUSY
END:VEVENT
BEGIN:VEVENT
CLASS:PUBLIC
CREATED:20250707T090915Z
DESCRIPTION:SL CH Regular Season (2026)
DTEND;TZID="W. Europe Standard Time":20251221T183000
DTSTAMP:20250707T110914Z
DTSTART;TZID="W. Europe Standard Time":20251221T160000
LAST-MODIFIED:20250707T090915Z
LOCATION:Eishalle Deutweg\, 8400 Winterthur ZH
SEQUENCE:0
SUMMARY:EHC Winterthur - EHC Chur (SL)
TRANSP:OPAQUE
UID:e210c9cc-fab4-4cd4-99a6-60656abd4b1c
X-MICROSOFT-CDO-BUSYSTATUS:BUSY
END:VEVENT
BEGIN:VEVENT
CLASS:PUBLIC
CREATED:20250707T090915Z
DESCRIPTION:SL CH Regular Season (2026)
DTEND;TZID="W. Europe Standard Time":20251223T221500
DTSTAMP:20250707T110914Z
DTSTART;TZID="W. Europe Standard Time":20251223T194500
LAST-MODIFIED:20250707T090915Z
LOCATION:KEB Kleinholz\, 4603 Olten SO
SEQUENCE:0
SUMMARY:EHC Olten - EHC Winterthur (SL)
TRANSP:OPAQUE
UID:79fcd242-7680-4b90-9014-a00bfe9230ba
X-MICROSOFT-CDO-BUSYSTATUS:BUSY
END:VEVENT
BEGIN:VEVENT
CLASS:PUBLIC
CREATED:20250707T090915Z
DESCRIPTION:SL CH Regular Season (2026)
DTEND;TZID="W. Europe Standard Time":20251227T213000
DTSTAMP:20250707T110914Z
DTSTART;TZID="W. Europe Standard Time":20251227T190000
LAST-MODIFIED:20250707T090915Z
LOCATION:P. des Mélèzes\, 2300 La Chaux-de-Fonds NE
SEQUENCE:0
SUMMARY:HC La Chaux-de-Fonds - EHC Winterthur (SL)
TRANSP:OPAQUE
UID:25d3e3ca-9887-455c-a558-4f3cdbc71e45
X-MICROSOFT-CDO-BUSYSTATUS:BUSY
END:VEVENT
BEGIN:VEVENT
CLASS:PUBLIC
CREATED:20250707T090915Z
DESCRIPTION:SL CH Regular Season (2026)
DTEND;TZID="W. Europe Standard Time":20251230T223000
DTSTAMP:20250707T110914Z
DTSTART;TZID="W. Europe Standard Time":20251230T200000
LAST-MODIFIED:20250707T090915Z
LOCATION:Eishalle Deutweg\, 8400 Winterthur ZH
SEQUENCE:0
SUMMARY:EHC Winterthur - EHC Basel (SL)
TRANSP:OPAQUE
UID:11c8316d-6bfb-4c09-bf23-c7a01af963ee
X-MICROSOFT-CDO-BUSYSTATUS:BUSY
END:VEVENT
BEGIN:VEVENT
CLASS:PUBLIC
CREATED:20250707T090915Z
DESCRIPTION:SL CH Regular Season (2026)
DTEND;TZID="W. Europe Standard Time":20260103T200000
DTSTAMP:20250707T110914Z
DTSTART;TZID="W. Europe Standard Time":20260103T173000
LAST-MODIFIED:20250707T090915Z
LOCATION:Eishalle Deutweg\, 8400 Winterthur ZH
SEQUENCE:0
SUMMARY:EHC Winterthur - GCK Lions (SL)
TRANSP:OPAQUE
UID:36b41524-e5e4-407a-a2f4-700bf8051952
X-MICROSOFT-CDO-BUSYSTATUS:BUSY
END:VEVENT
BEGIN:VEVENT
CLASS:PUBLIC
CREATED:20250707T090915Z
DESCRIPTION:SL CH Regular Season (2026)
DTEND;TZID="W. Europe Standard Time":20260104T191500
DTSTAMP:20250707T110914Z
DTSTART;TZID="W. Europe Standard Time":20260104T164500
LAST-MODIFIED:20250707T090915Z
LOCATION:CS Bellinzona\, 6500 Bellinzona TI
SEQUENCE:0
SUMMARY:GDT Bellinzona Snakes - EHC Winterthur (SL)
TRANSP:OPAQUE
UID:93069db0-1a8a-4738-822c-e90cbec27f58
X-MICROSOFT-CDO-BUSYSTATUS:BUSY
END:VEVENT
BEGIN:VEVENT
CLASS:PUBLIC
CREATED:20250707T090915Z
DESCRIPTION:SL CH Regular Season (2026)
DTEND;TZID="W. Europe Standard Time":20260106T223000
DTSTAMP:20250707T110914Z
DTSTART;TZID="W. Europe Standard Time":20260106T200000
LAST-MODIFIED:20250707T090915Z
LOCATION:Patinoire Graben\, 3960 Sierre VS
SEQUENCE:0
SUMMARY:HC Sierre - EHC Winterthur (SL)
TRANSP:OPAQUE
UID:c2090a6f-ddc5-4ae3-9a23-7d9069e6fd35
X-MICROSOFT-CDO-BUSYSTATUS:BUSY
END:VEVENT
BEGIN:VEVENT
CLASS:PUBLIC
CREATED:20250707T090915Z
DESCRIPTION:SL CH Regular Season (2026)
DTEND;TZID="W. Europe Standard Time":20260110T200000
DTSTAMP:20250707T110914Z
DTSTART;TZID="W. Europe Standard Time":20260110T173000
LAST-MODIFIED:20250707T090915Z
LOCATION:Eishalle Deutweg\, 8400 Winterthur ZH
SEQUENCE:0
SUMMARY:EHC Winterthur - EHC Arosa (SL)
TRANSP:OPAQUE
UID:3aac0d69-df74-4797-846f-6eda0d8e68ef
X-MICROSOFT-CDO-BUSYSTATUS:BUSY
END:VEVENT
BEGIN:VEVENT
CLASS:PUBLIC
CREATED:20250707T090915Z
DESCRIPTION:SL CH Regular Season (2026)
DTEND;TZID="W. Europe Standard Time":20260116T221500
DTSTAMP:20250707T110914Z
DTSTART;TZID="W. Europe Standard Time":20260116T194500
LAST-MODIFIED:20250707T090915Z
LOCATION:Lonza Arena Visp\, 3930 Visp VS
SEQUENCE:0
SUMMARY:EHC Visp - EHC Winterthur (SL)
TRANSP:OPAQUE
UID:52cd52f1-ac20-4a82-a3ff-2ba5b272dcae
X-MICROSOFT-CDO-BUSYSTATUS:BUSY
END:VEVENT
BEGIN:VEVENT
CLASS:PUBLIC
CREATED:20250707T090915Z
DESCRIPTION:SL CH Regular Season (2026)
DTEND;TZID="W. Europe Standard Time":20260120T221500
DTSTAMP:20250707T110914Z
DTSTART;TZID="W. Europe Standard Time":20260120T194500
LAST-MODIFIED:20250707T090915Z
LOCATION:KEB Kleinholz\, 4603 Olten SO
SEQUENCE:0
SUMMARY:EHC Olten - EHC Winterthur (SL)
TRANSP:OPAQUE
UID:3b93ea70-7fcf-410b-93c7-f235ab4ad33c
X-MICROSOFT-CDO-BUSYSTATUS:BUSY
END:VEVENT
BEGIN:VEVENT
CLASS:PUBLIC
CREATED:20250707T090915Z
DESCRIPTION:SL CH Regular Season (2026)
DTEND;TZID="W. Europe Standard Time":20260123T223000
DTSTAMP:20250707T110914Z
DTSTART;TZID="W. Europe Standard Time":20260123T200000
LAST-MODIFIED:20250707T090915Z
LOCATION:Eishalle Deutweg\, 8400 Winterthur ZH
SEQUENCE:0
SUMMARY:EHC Winterthur - HC Thurgau (SL)
TRANSP:OPAQUE
UID:dc42d283-0aa2-4d8a-8706-6cd7e832ef65
X-MICROSOFT-CDO-BUSYSTATUS:BUSY
END:VEVENT
BEGIN:VEVENT
CLASS:PUBLIC
CREATED:20250707T090915Z
DESCRIPTION:SL CH Regular Season (2026)
DTEND;TZID="W. Europe Standard Time":20260124T210000
DTSTAMP:20250707T110914Z
DTSTART;TZID="W. Europe Standard Time":20260124T183000
LAST-MODIFIED:20250707T090915Z
LOCATION:Thomas Domenig Stadion\, 7000 Chur GR
SEQUENCE:0
SUMMARY:EHC Chur - EHC Winterthur (SL)
TRANSP:OPAQUE
UID:7d1da51e-91f4-45ce-8e42-d7e8719dd4bb
X-MICROSOFT-CDO-BUSYSTATUS:BUSY
END:VEVENT
BEGIN:VEVENT
CLASS:PUBLIC
CREATED:20250707T090915Z
DESCRIPTION:SL CH Regular Season (2026)
DTEND;TZID="W. Europe Standard Time":20260130T223000
DTSTAMP:20250707T110914Z
DTSTART;TZID="W. Europe Standard Time":20260130T200000
LAST-MODIFIED:20250707T090915Z
LOCATION:KEB KEK\, 8700 Küsnacht ZH
SEQUENCE:0
SUMMARY:GCK Lions - EHC Winterthur (SL)
TRANSP:OPAQUE
UID:47b597b6-0d5d-42b4-bb55-5913d6e2b656
X-MICROSOFT-CDO-BUSYSTATUS:BUSY
END:VEVENT
BEGIN:VEVENT
CLASS:PUBLIC
CREATED:20250707T090915Z
DESCRIPTION:SL CH Regular Season (2026)
DTEND;TZID="W. Europe Standard Time":20260207T203000
DTSTAMP:20250707T110914Z
DTSTART;TZID="W. Europe Standard Time":20260207T180000
LAST-MODIFIED:20250707T090915Z
LOCATION:EH Güttingersreuti\, 8570 Weinfelden TG
SEQUENCE:0
SUMMARY:HC Thurgau - EHC Winterthur (SL)
TRANSP:OPAQUE
UID:5008dd06-bcc4-409b-970b-f81933712661
X-MICROSOFT-CDO-BUSYSTATUS:BUSY
END:VEVENT
BEGIN:VEVENT
CLASS:PUBLIC
CREATED:20250707T090915Z
DESCRIPTION:SL CH Regular Season (2026)
DTEND;TZID="W. Europe Standard Time":20260210T223000
DTSTAMP:20250707T110914Z
DTSTART;TZID="W. Europe Standard Time":20260210T200000
LAST-MODIFIED:20250707T090915Z
LOCATION:Eishalle Deutweg\, 8400 Winterthur ZH
SEQUENCE:0
SUMMARY:EHC Winterthur - EHC Arosa (SL)
TRANSP:OPAQUE
UID:475ffc34-9bb8-4007-8d06-6cf0a22e9227
X-MICROSOFT-CDO-BUSYSTATUS:BUSY
END:VEVENT
BEGIN:VEVENT
CLASS:PUBLIC
CREATED:20250707T090915Z
DESCRIPTION:SL CH Regular Season (2026)
DTEND;TZID="W. Europe Standard Time":20260212T223000
DTSTAMP:20250707T110914Z
DTSTART;TZID="W. Europe Standard Time":20260212T200000
LAST-MODIFIED:20250707T090915Z
LOCATION:Eishalle Deutweg\, 8400 Winterthur ZH
SEQUENCE:0
SUMMARY:EHC Winterthur - EHC Basel (SL)
TRANSP:OPAQUE
UID:33b44297-6f9e-494d-a91b-d2752c21c722
X-MICROSOFT-CDO-BUSYSTATUS:BUSY
END:VEVENT
BEGIN:VEVENT
CLASS:PUBLIC
CREATED:20250707T090915Z
DESCRIPTION:SL CH Regular Season (2026)
DTEND;TZID="W. Europe Standard Time":20260215T201500
DTSTAMP:20250707T110914Z
DTSTART;TZID="W. Europe Standard Time":20260215T174500
LAST-MODIFIED:20250707T090915Z
LOCATION:Lonza Arena Visp\, 3930 Visp VS
SEQUENCE:0
SUMMARY:EHC Visp - EHC Winterthur (SL)
TRANSP:OPAQUE
UID:f3fbefea-1deb-4064-9323-97b8b43d11d4
X-MICROSOFT-CDO-BUSYSTATUS:BUSY
END:VEVENT
BEGIN:VEVENT
CLASS:PUBLIC
CREATED:20250707T090915Z
DESCRIPTION:SL CH Regular Season (2026)
DTEND;TZID="W. Europe Standard Time":20260217T223000
DTSTAMP:20250707T110914Z
DTSTART;TZID="W. Europe Standard Time":20260217T200000
LAST-MODIFIED:20250707T090915Z
LOCATION:Eishalle Deutweg\, 8400 Winterthur ZH
SEQUENCE:0
SUMMARY:EHC Winterthur - GDT Bellinzona Snakes (SL)
TRANSP:OPAQUE
UID:91998e84-debd-42ec-a1d6-a3916a97c0fb
X-MICROSOFT-CDO-BUSYSTATUS:BUSY
END:VEVENT
BEGIN:VEVENT
CLASS:PUBLIC
CREATED:20250707T090915Z
DESCRIPTION:SL CH Regular Season (2026)
DTEND;TZID="W. Europe Standard Time":20260219T221500
DTSTAMP:20250707T110914Z
DTSTART;TZID="W. Europe Standard Time":20260219T194500
LAST-MODIFIED:20250707T090915Z
LOCATION:Patinoire Graben\, 3960 Sierre VS
SEQUENCE:0
SUMMARY:HC Sierre - EHC Winterthur (SL)
TRANSP:OPAQUE
UID:bea64b59-38b7-41c7-9e52-d8c8f62ef9e3
X-MICROSOFT-CDO-BUSYSTATUS:BUSY
END:VEVENT
BEGIN:VEVENT
CLASS:PUBLIC
CREATED:20250707T090915Z
DESCRIPTION:SL CH Regular Season (2026)
DTEND;TZID="W. Europe Standard Time":20260221T203000
DTSTAMP:20250707T110914Z
DTSTART;TZID="W. Europe Standard Time":20260221T180000
LAST-MODIFIED:20250707T090915Z
LOCATION:Eishalle Deutweg\, 8400 Winterthur ZH
SEQUENCE:0
SUMMARY:EHC Winterthur - HC La Chaux-de-Fonds (SL)
TRANSP:OPAQUE
UID:24932b6e-e53f-422a-8608-28dc0d66327b
X-MICROSOFT-CDO-BUSYSTATUS:BUSY
END:VEVENT
END:VCALENDAR
